BEGIN:VCALENDAR
VERSION:2.0
PRODID:-//Cystic Fibrosis Research and Translation Center (CFRTC) - ECPv4.9.12//NONSGML v1.0//EN
CALSCALE:GREGORIAN
METHOD:PUBLISH
X-WR-CALNAME:Cystic Fibrosis Research and Translation Center (CFRTC)
X-ORIGINAL-URL:https://depts.washington.edu/cfrtc
X-WR-CALDESC:Events for Cystic Fibrosis Research and Translation Center (CFRTC)
BEGIN:VTIMEZONE
TZID:America/Denver
BEGIN:DAYLIGHT
TZOFFSETFROM:-0700
TZOFFSETTO:-0600
TZNAME:MDT
DTSTART:20190310T090000
END:DAYLIGHT
BEGIN:STANDARD
TZOFFSETFROM:-0600
TZOFFSETTO:-0700
TZNAME:MST
DTSTART:20191103T080000
END:STANDARD
END:VTIMEZONE
BEGIN:VEVENT
DTSTART;TZID=America/Denver:20191004T160000
DTEND;TZID=America/Denver:20191004T170000
DTSTAMP:20260425T144943
CREATED:20181109T074158Z
LAST-MODIFIED:20191108T233008Z
UID:1940-1570204800-1570208400@depts.washington.edu
SUMMARY:Boo Shan Tseng\, PhD
DESCRIPTION:Boo Shan Tseng\, Ph.D.\nAssistant Professor\, School of Life Sciences\nUniversity of Nevada\, Las Vegas \n\n\nThis talk is titled “Correcting the Bicarbonate Secretory Defect in Cystic Fibrosis” \nFor more information and questions\, contact: \nDonna Crist (206) 884-7554\ndonna.crist@seattlechildrens.org \nDownload flyer… \n\n\n
URL:https://depts.washington.edu/cfrtc/event/boo-shan-tseng-phd/
LOCATION:Health Sciences Building – K350\, University of WA\, Seattle\, WA\, 98195\, United States
END:VEVENT
END:VCALENDAR