BEGIN:VCALENDAR
VERSION:2.0
PRODID:-//Cystic Fibrosis Research and Translation Center (CFRTC) - ECPv4.9.12//NONSGML v1.0//EN
CALSCALE:GREGORIAN
METHOD:PUBLISH
X-WR-CALNAME:Cystic Fibrosis Research and Translation Center (CFRTC)
X-ORIGINAL-URL:https://depts.washington.edu/cfrtc
X-WR-CALDESC:Events for Cystic Fibrosis Research and Translation Center (CFRTC)
BEGIN:VTIMEZONE
TZID:UTC
BEGIN:STANDARD
TZOFFSETFROM:+0000
TZOFFSETTO:+0000
TZNAME:UTC
DTSTART:20180101T000000
END:STANDARD
END:VTIMEZONE
BEGIN:VEVENT
DTSTART;TZID=UTC:20180614T160000
DTEND;TZID=UTC:20180614T170000
DTSTAMP:20260425T145131
CREATED:20180110T054419Z
LAST-MODIFIED:20180504T053155Z
UID:1498-1528992000-1528995600@depts.washington.edu
SUMMARY:Kathleen Ramos\, MD
DESCRIPTION:\n\n\nKathleen Ramos\, MD\n Assistant Professor\, Pulmonary and Critical Care Medicine\, UW \n\n\n\n
URL:https://depts.washington.edu/cfrtc/event/kathleen-ramos-md/
LOCATION:Health Sciences Building – K350\, University of WA\, Seattle\, WA\, 98195\, United States
END:VEVENT
END:VCALENDAR