BEGIN:VCALENDAR
VERSION:2.0
PRODID:-//UW Center for Performance Studies - ECPv6.15.20//NONSGML v1.0//EN
CALSCALE:GREGORIAN
METHOD:PUBLISH
X-WR-CALNAME:UW Center for Performance Studies
X-ORIGINAL-URL:https://depts.washington.edu/uwcps
X-WR-CALDESC:Events for UW Center for Performance Studies
REFRESH-INTERVAL;VALUE=DURATION:PT1H
X-Robots-Tag:noindex
X-PUBLISHED-TTL:PT1H
BEGIN:VTIMEZONE
TZID:America/Vancouver
BEGIN:DAYLIGHT
TZOFFSETFROM:-0800
TZOFFSETTO:-0700
TZNAME:PDT
DTSTART:20220313T100000
END:DAYLIGHT
BEGIN:STANDARD
TZOFFSETFROM:-0700
TZOFFSETTO:-0800
TZNAME:PST
DTSTART:20221106T090000
END:STANDARD
BEGIN:DAYLIGHT
TZOFFSETFROM:-0800
TZOFFSETTO:-0700
TZNAME:PDT
DTSTART:20230312T100000
END:DAYLIGHT
BEGIN:STANDARD
TZOFFSETFROM:-0700
TZOFFSETTO:-0800
TZNAME:PST
DTSTART:20231105T090000
END:STANDARD
BEGIN:DAYLIGHT
TZOFFSETFROM:-0800
TZOFFSETTO:-0700
TZNAME:PDT
DTSTART:20240310T100000
END:DAYLIGHT
BEGIN:STANDARD
TZOFFSETFROM:-0700
TZOFFSETTO:-0800
TZNAME:PST
DTSTART:20241103T090000
END:STANDARD
END:VTIMEZONE
BEGIN:VEVENT
DTSTART;TZID=America/Vancouver:20230504T190000
DTEND;TZID=America/Vancouver:20230504T203000
DTSTAMP:20260421T070147
CREATED:20230331T004738Z
LAST-MODIFIED:20230331T005531Z
UID:1870-1683226800-1683232200@depts.washington.edu
SUMMARY:STROUM LECTURES 2023   |   The Sound of a World Within Worlds: Words\, Music\, Yiddish\, and Culture
DESCRIPTION:For this year’s Samuel and Althea Stroum Lectures in Jewish Studies\, Anthony Mordechai Tzvi Russell\, a classically trained and internationally acclaimed vocalist\, composer and arranger specializing in music in the Yiddish language\, will perform with accompanist Dmitri Gaskin. Through oration and art music\, they will take us on a melodic journey through a variety of elements come together to shape Russell’s unique genre of Jewish musicality. \nSeating is limited\, so reserve your spot for this in-person event today! While the performances won’t be live-streamed\, you can still receive a recording if you choose “No\, I will not be attending in person; please email me the recording after the event” on the registration page. \n  \nLecture 2. Between Me and the Other World: A Tikkun\nThursday\, May 4\, 2023\, 7:00 — 8:30 p.m. — Walker-Ames Room\, Kane Hall\n\nDescription. Animated by the writings of African American sociologist and historian W.E.B. DuBois (1868-1963) and British Jewish author Israel Zangwill (1864-1926)\, Between Me and the Other World is an immersive musical collaboration between Anthony Mordechai Tzvi Russell and accordionist Dmitri Gaskin that explores W.E.B. DuBois’ provocative question\, “How does it feel to be a problem?” refracted through the texts and musical idioms of the African American South and Jewish Eastern Europe. \nFollowing the performance\, Barbara Henry\, Associate Professor of Slavic Languages and Literature\, will moderate a Q&A session with the audience.
URL:https://depts.washington.edu/uwcps/event/stroum-lectures-2023-the-sound-of-a-world-within-worlds-words-music-yiddish-and-culture/
LOCATION:Kane Hall\, 4069 Spokane Ln NE\, seattle\, WA\, 98195\, United States
CATEGORIES:Performance
ATTACH;FMTTYPE=image/png:https://depts.washington.edu/uwcps/wordpress/wp-content/uploads/2023/03/Anthony-Russell-Trio-Events-Main-Page.png
END:VEVENT
END:VCALENDAR